BEGIN:VCALENDAR
VERSION:2.0
PRODID:-//Nevada Electric Vehicle Association - ECPv6.15.20//NONSGML v1.0//EN
CALSCALE:GREGORIAN
METHOD:PUBLISH
X-WR-CALNAME:Nevada Electric Vehicle Association
X-ORIGINAL-URL:https://nveva.org
X-WR-CALDESC:Events for Nevada Electric Vehicle Association
REFRESH-INTERVAL;VALUE=DURATION:PT1H
X-Robots-Tag:noindex
X-PUBLISHED-TTL:PT1H
BEGIN:VTIMEZONE
TZID:America/Los_Angeles
BEGIN:DAYLIGHT
TZOFFSETFROM:-0800
TZOFFSETTO:-0700
TZNAME:PDT
DTSTART:20230312T100000
END:DAYLIGHT
BEGIN:STANDARD
TZOFFSETFROM:-0700
TZOFFSETTO:-0800
TZNAME:PST
DTSTART:20231105T090000
END:STANDARD
BEGIN:DAYLIGHT
TZOFFSETFROM:-0800
TZOFFSETTO:-0700
TZNAME:PDT
DTSTART:20240310T100000
END:DAYLIGHT
BEGIN:STANDARD
TZOFFSETFROM:-0700
TZOFFSETTO:-0800
TZNAME:PST
DTSTART:20241103T090000
END:STANDARD
BEGIN:DAYLIGHT
TZOFFSETFROM:-0800
TZOFFSETTO:-0700
TZNAME:PDT
DTSTART:20250309T100000
END:DAYLIGHT
BEGIN:STANDARD
TZOFFSETFROM:-0700
TZOFFSETTO:-0800
TZNAME:PST
DTSTART:20251102T090000
END:STANDARD
END:VTIMEZONE
BEGIN:VEVENT
DTSTART;TZID=America/Los_Angeles:20240919T110000
DTEND;TZID=America/Los_Angeles:20240919T130000
DTSTAMP:20260422T204640
CREATED:20240906T021804Z
LAST-MODIFIED:20240906T030029Z
UID:5379-1726743600-1726750800@nveva.org
SUMMARY:EV 101 - Electric Vehicle Basics: Hybrid\, Plug-in\, and BEVs Explained
DESCRIPTION:What’s a hybrid vs. a plug-in hybrid? What’s a Tesla? What kind of gas do they take? We’ll cover the basics of this new type of vehicle\, and talk specifics. \n\n\n\n\nHow they drive\, how they charge\, hybrids versus fully electric\, and how they can save you time\, money and hassle. Plus\, you can see an EV on display! Presented by the Nevada Electric Vehicle Association and hosted by the Southern Nevada Clean Cities Coalition. Get all the details HERE! \n\n\n\nFree and open to the public. Seating is on a first-come\, first-served basis and may be limited. For more information\, please call 702.507.6068. \n\n\n\n\n\n\n\n\n\n\nShare this:\n				Share on X (Opens in new window)\n				X\n			\n				Share on Facebook (Opens in new window)\n				Facebook\n			\n				Share on LinkedIn (Opens in new window)\n				LinkedIn\n			Like this:Like Loading...
URL:https://nveva.org/event/ev-101-at-windmill-library/
LOCATION:windmill library\, 7060 W. Windmill Lna\, 89113-4678\, Las Vegas\, Nevada\, 89113\, United States
CATEGORIES:Education,Visibility
ATTACH;FMTTYPE=image/jpeg:https://nveva.org/wp-content/uploads/2024/03/ElectricVehicles101v2.jpg
ORGANIZER;CN="Clark County Dept of Environment & Sustainability":MAILTO:AirQuality@ClarkCountyNV.gov
END:VEVENT
BEGIN:VEVENT
DTSTART;TZID=America/Los_Angeles:20240915T133000
DTEND;TZID=America/Los_Angeles:20240915T143000
DTSTAMP:20260422T204640
CREATED:20240905T180412Z
LAST-MODIFIED:20240906T014411Z
UID:5370-1726407000-1726410600@nveva.org
SUMMARY:Southern Nevada Climate Voters Unite Campaign
DESCRIPTION:Nevada Climate Voters\, Unite! There’s so much at stake for the issues we care about in this year’s elections. \n\n\n\nJoin the EDF Action team in Las Vegas on Saturday\, September 15th\, to learn more about what’s at stake\, critical campaigns in Nevada\, and how you can get involved to help elect climate champions this year. We’ll hear from special guests\, and our program will conclude with an opportunity to take meaningful action on the spot! Voting in Nevada begins in early October\, so now’s the time to get plugged in. \n\n\n\nRegister now! \n\n\n\n\n\n\n\n\n\n\nShare this:\n				Share on X (Opens in new window)\n				X\n			\n				Share on Facebook (Opens in new window)\n				Facebook\n			\n				Share on LinkedIn (Opens in new window)\n				LinkedIn\n			Like this:Like Loading...
URL:https://nveva.org/event/southern-nevada-climate-voters-unite-campaign/
LOCATION:Clark County Library\, 1401 E Flamingo Road\, Las Vegas\, Nevada\, 89119\, United States
CATEGORIES:Advocacy,Visibility
ATTACH;FMTTYPE=image/webp:https://nveva.org/wp-content/uploads/2024/09/Climate-Voters-Unite-2024-Tour-Nevada-Las-Vegas_20240817020119685191.png.webp
END:VEVENT
BEGIN:VEVENT
DTSTART;TZID=America/Los_Angeles:20240807T110000
DTEND;TZID=America/Los_Angeles:20240807T130000
DTSTAMP:20260422T204640
CREATED:20240806T013040Z
LAST-MODIFIED:20240806T013836Z
UID:5311-1723028400-1723035600@nveva.org
SUMMARY:Unveiling New Chargers and EVs at Caesar's Palace
DESCRIPTION:This event promises to showcase the latest in automotive innovation by launching Caesars Palace’s newly installed charging stations! We hope you can join us by bringing electric vehicles to be test-driven and community resources. \n\n\n\nHosted by All-In Clark County and the Southern Nevada Clean Cities Coalition. Come see the newest EV chargers in Las Vegas\, along with some of the newest EVs on the market\, and maybe even test drive them! \n\n\n\n\n\n\n\n\n\n\nShare this:\n				Share on X (Opens in new window)\n				X\n			\n				Share on Facebook (Opens in new window)\n				Facebook\n			\n				Share on LinkedIn (Opens in new window)\n				LinkedIn\n			Like this:Like Loading...
URL:https://nveva.org/event/ride-and-drive-at-caesars-palace/
LOCATION:Caesar’s Palace\, 3570 Las Vegas Boulevard South\, Las Vegas\, Nevada\, 89109\, United States
CATEGORIES:Drive Events
ATTACH;FMTTYPE=image/png:https://nveva.org/wp-content/uploads/2024/08/Caesars-Palace-Roadshow-SNCCC-FINAL.png
ORGANIZER;CN="Clark County Dept of Environment & Sustainability":MAILTO:AirQuality@ClarkCountyNV.gov
END:VEVENT
BEGIN:VEVENT
DTSTART;TZID=America/Los_Angeles:20240511T140000
DTEND;TZID=America/Los_Angeles:20240511T160000
DTSTAMP:20260422T204640
CREATED:20240329T204013Z
LAST-MODIFIED:20240329T204042Z
UID:5180-1715436000-1715443200@nveva.org
SUMMARY:EV 102 @ Summerlin Library
DESCRIPTION:This is a more in-depth class\, to be taken after Electric Vehicles 101. \n\n\n\nNow that we’ve covered the basics\, it’s time to get serious. Maybe you’re considering an Electric Vehicle or hybrid for your next vehicle. How do I charge it? Can I take it on the road? Can I get a rebate on a new or used Electric Vehicle? \n\n\n\nWe’ll go into details about charging\, talk in depth about the Federal Clean Vehicle Credit\, and more. Plus\, you can see an Electric Vehicle on display! \n\n\n\nPresented by the Nevada Electric Vehicle Association and hosted by the Southern Nevada Clean Cities Coalition. Nevada Electric Vehicle Association website \n\n\n\nFree and open to the public. Seating is on a first-come\, first-served basis and may be limited. For more information\, please call 702.507.3863. \n\n\n\n\n\n\n\n\n\n\nShare this:\n				Share on X (Opens in new window)\n				X\n			\n				Share on Facebook (Opens in new window)\n				Facebook\n			\n				Share on LinkedIn (Opens in new window)\n				LinkedIn\n			Like this:Like Loading...
URL:https://nveva.org/event/ev-102-summerlin-library/
LOCATION:Summerlin Library\, 1771 Inner Circle Dr\, Las Vegas\, Nevada\, 89134\, United States
CATEGORIES:Panel Discussion
ATTACH;FMTTYPE=image/png:https://nveva.org/wp-content/uploads/2024/03/ElectricVehicles102.png
ORGANIZER;CN="Nevada Electric Vehicle Association":MAILTO:NevadaEVAssociation@gmail.com
END:VEVENT
BEGIN:VEVENT
DTSTART;TZID=America/Los_Angeles:20240427T110000
DTEND;TZID=America/Los_Angeles:20240427T130000
DTSTAMP:20260422T204640
CREATED:20240329T203601Z
LAST-MODIFIED:20240329T204107Z
UID:5173-1714215600-1714222800@nveva.org
SUMMARY:EV 101 @ Summerlin Library
DESCRIPTION:Everybody is talking about electric vehicles lately\, but what are they and how do they work? \n\n\n\nWhat’s a hybrid vs. a plug-in hybrid? What’s a Tesla? What kind of gas do they take? We’ll cover the basics of this new type of vehicle\, and talk specifics. How they drive\, how they charge\, hybrids versus fully electric\, and how they can save you time\, money and hassle. Plus\, you can see an Electric Vehicle on display! Presented by the Nevada Electric Vehicle Association and hosted by the Southern Nevada Clean Cities Coalition. \n\n\n\n\n\n\n\n\n\n\nShare this:\n				Share on X (Opens in new window)\n				X\n			\n				Share on Facebook (Opens in new window)\n				Facebook\n			\n				Share on LinkedIn (Opens in new window)\n				LinkedIn\n			Like this:Like Loading...
URL:https://nveva.org/event/ev-101-summerlin-library/
LOCATION:Summerlin Library\, 1771 Inner Circle Dr\, Las Vegas\, Nevada\, 89134\, United States
CATEGORIES:Panel Discussion
ATTACH;FMTTYPE=image/jpeg:https://nveva.org/wp-content/uploads/2024/03/ElectricVehicles101v2.jpg
END:VEVENT
END:VCALENDAR